BEGIN:VCALENDAR
VERSION:2.0
PRODID:KanCare Calendar Creator
METHOD:PUBLISH
BEGIN:VEVENT
DTSTAMP:20240826T141125
DTSTART:20240911T120000
DTEND:20240911T130000
SUMMARY:EVV Town Hall: September 11, 2024
DESCRIPTION:<p>Register to attend:&nbsp;<a href="https://us02web.zoom.us/webinar/register/WN_GEPv0cTRRjaYtMNdA--gnA" target="_blank">https://us02web.zoom.us/webinar/register/WN_GEPv0cTRRjaYtMNdA--gnA</a></p><p>&nbsp;</p><p>&nbsp;</p><div id="awebChromeHelper"></div>
X-ALT-DESC;FMTTYPE=text/html:<p>Register to attend:&nbsp;<a href="https://us02web.zoom.us/webinar/register/WN_GEPv0cTRRjaYtMNdA--gnA" target="_blank">https://us02web.zoom.us/webinar/register/WN_GEPv0cTRRjaYtMNdA--gnA</a></p><p>&nbsp;</p><p>&nbsp;</p><div id="awebChromeHelper"></div>
LOCATION:Online - Zoom meeting\, 
CLASS:PUBLIC
END:VEVENT
END:VCALENDAR
