BEGIN:VCALENDAR
VERSION:2.0
PRODID:KanCare Calendar Creator
METHOD:PUBLISH
BEGIN:VEVENT
DTSTAMP:20250117T080229
DTSTART:20250123T120000
DTEND:20250123T130000
SUMMARY:EVV Town Hall 20: Claims Processing Via the AuthentiCare Solution and Activity Code Updates
DESCRIPTION:<a href="https://us02web.zoom.us/webinar/register/WN_nWuBGh9NRBOlSntSiY2ZAw#/registration" target="_blank">Register here</a>.
X-ALT-DESC;FMTTYPE=text/html:<a href="https://us02web.zoom.us/webinar/register/WN_nWuBGh9NRBOlSntSiY2ZAw#/registration" target="_blank">Register here</a>.
LOCATION:
CLASS:PUBLIC
END:VEVENT
END:VCALENDAR
