BEGIN:VCALENDAR
VERSION:2.0
PRODID:KanCare Calendar Creator
METHOD:PUBLISH
BEGIN:VEVENT
DTSTAMP:20250505T072822
DTSTART:20250312T120000
DTEND:20250312T130000
SUMMARY:EVV Town Hall 22: EVV Administration and User Management
DESCRIPTION:<a href="https://us02web.zoom.us/webinar/register/WN_AtRPtnn3T6-6Bt_Xh1PtTg#/registration" target="_blank">Register here</a>.&nbsp;
X-ALT-DESC;FMTTYPE=text/html:<a href="https://us02web.zoom.us/webinar/register/WN_AtRPtnn3T6-6Bt_Xh1PtTg#/registration" target="_blank">Register here</a>.&nbsp;
LOCATION:
CLASS:PUBLIC
END:VEVENT
END:VCALENDAR
