BEGIN:VCALENDAR
VERSION:2.0
PRODID:KanCare Calendar Creator
METHOD:PUBLISH
BEGIN:VEVENT
DTSTAMP:20250303T121934
DTSTART:20250521T120000
DTEND:20250521T130000
SUMMARY:EVV Town Hall 24: Compliance Management
DESCRIPTION:<a href="https://us02web.zoom.us/webinar/register/WN_e5585ZmTSI-sN8fQs_vxuA#/registration" target="_blank">Register here</a>.&nbsp;
X-ALT-DESC;FMTTYPE=text/html:<a href="https://us02web.zoom.us/webinar/register/WN_e5585ZmTSI-sN8fQs_vxuA#/registration" target="_blank">Register here</a>.&nbsp;
LOCATION:
CLASS:PUBLIC
END:VEVENT
END:VCALENDAR
