BEGIN:VCALENDAR
VERSION:2.0
PRODID:KanCare Calendar Creator
METHOD:PUBLISH
BEGIN:VEVENT
DTSTAMP:20250303T122048
DTSTART:20250618T120000
DTEND:20250618T130000
SUMMARY:EVV Town Hall 25: User Management
DESCRIPTION:<a href="https://us02web.zoom.us/webinar/register/WN_rsAdqpRoSR62_gvHesd4bQ#/registration" target="_blank">Register here</a>.&nbsp;
X-ALT-DESC;FMTTYPE=text/html:<a href="https://us02web.zoom.us/webinar/register/WN_rsAdqpRoSR62_gvHesd4bQ#/registration" target="_blank">Register here</a>.&nbsp;
LOCATION:
CLASS:PUBLIC
END:VEVENT
END:VCALENDAR
